BEGIN:VCALENDAR
METHOD:PUBLISH
VERSION:2.0
PRODID:-//Gemeinde Markt St. Martin//Gemeinde Markt St. Martin//DE
BEGIN:VTIMEZONE
TZID:Europe/Vienna
X-LIC-LOCATION:Europe/Vienna
BEGIN:DAYLIGHT
TZOFFSETFROM:+0100
TZOFFSETTO:+0200
TZNAME:CEST
DTSTART:19700329T020000
RRULE:FREQ=YEARLY;INTERVAL=1;BYDAY=-1SU;BYMONTH=3
END:DAYLIGHT
BEGIN:STANDARD
TZOFFSETFROM:+0200
TZOFFSETTO:+0100
TZNAME:CET
DTSTART:19701025T030000
RRULE:FREQ=YEARLY;INTERVAL=1;BYDAY=-1SU;BYMONTH=10
END:STANDARD
END:VTIMEZONE
BEGIN:VEVENT
SUMMARY:	Faschingsfest für Jung und Alt (Landsee) 
URL:https://marktstmartin.at/index.php?p=events/veranstaltung-am-01-03-2025-faschingsfest-für-jung-und-alt
UID:6186
DTSTAMP:20260422T072056
DTSTART:20250301
DTEND:20250302
LOCATION:   7341 Landsee Österreich
END:VEVENT
END:VCALENDAR