BEGIN:VCALENDAR
METHOD:PUBLISH
VERSION:2.0
PRODID:-//Gemeinde Markt St. Martin//Gemeinde Markt St. Martin//DE
BEGIN:VTIMEZONE
TZID:Europe/Vienna
X-LIC-LOCATION:Europe/Vienna
BEGIN:DAYLIGHT
TZOFFSETFROM:+0100
TZOFFSETTO:+0200
TZNAME:CEST
DTSTART:19700329T020000
RRULE:FREQ=YEARLY;INTERVAL=1;BYDAY=-1SU;BYMONTH=3
END:DAYLIGHT
BEGIN:STANDARD
TZOFFSETFROM:+0200
TZOFFSETTO:+0100
TZNAME:CET
DTSTART:19701025T030000
RRULE:FREQ=YEARLY;INTERVAL=1;BYDAY=-1SU;BYMONTH=10
END:STANDARD
END:VTIMEZONE
BEGIN:VEVENT
SUMMARY:	"Echt Wien" - Harmonika, Kontragitarre, Gesang (Markt St. Martin) 
URL:https://marktstmartin.at/index.php?p=events/veranstaltung-am-03-07-2021-echt-wien-harmonika-kontragitarre-gesang
UID:3569
DTSTAMP:20260421T170452
DTSTART:20210703T160000
DTEND:20210703T160000
LOCATION: Kulturstadl Hauptstraße 10 7341 Markt St. Martin Österreich
END:VEVENT
END:VCALENDAR