BEGIN:VCALENDAR
METHOD:PUBLISH
VERSION:2.0
PRODID:-//Gemeinde Markt St. Martin//Gemeinde Markt St. Martin//DE
BEGIN:VTIMEZONE
TZID:Europe/Vienna
X-LIC-LOCATION:Europe/Vienna
BEGIN:DAYLIGHT
TZOFFSETFROM:+0100
TZOFFSETTO:+0200
TZNAME:CEST
DTSTART:19700329T020000
RRULE:FREQ=YEARLY;INTERVAL=1;BYDAY=-1SU;BYMONTH=3
END:DAYLIGHT
BEGIN:STANDARD
TZOFFSETFROM:+0200
TZOFFSETTO:+0100
TZNAME:CET
DTSTART:19701025T030000
RRULE:FREQ=YEARLY;INTERVAL=1;BYDAY=-1SU;BYMONTH=10
END:STANDARD
END:VTIMEZONE
BEGIN:VEVENT
SUMMARY:	Vortrag: ZUKUNFTSFIT: Klima, Wetter & Gesundheit  (Großwarasdorf) 
URL:https://marktstmartin.at/index.php?p=events/veranstaltung-am-17-03-2026-vortrag-zukunftsfit-klima-wetter-gesundheit
UID:6862
DTSTAMP:20260423T104142
DTSTART:20260317T183000
DTEND:20260317T183000
LOCATION: KUGA   Großwarasdorf Österreich
END:VEVENT
END:VCALENDAR