BEGIN:VCALENDAR
METHOD:PUBLISH
VERSION:2.0
PRODID:-//Gemeinde Markt St. Martin//Gemeinde Markt St. Martin//DE
BEGIN:VTIMEZONE
TZID:Europe/Vienna
X-LIC-LOCATION:Europe/Vienna
BEGIN:DAYLIGHT
TZOFFSETFROM:+0100
TZOFFSETTO:+0200
TZNAME:CEST
DTSTART:19700329T020000
RRULE:FREQ=YEARLY;INTERVAL=1;BYDAY=-1SU;BYMONTH=3
END:DAYLIGHT
BEGIN:STANDARD
TZOFFSETFROM:+0200
TZOFFSETTO:+0100
TZNAME:CET
DTSTART:19701025T030000
RRULE:FREQ=YEARLY;INTERVAL=1;BYDAY=-1SU;BYMONTH=10
END:STANDARD
END:VTIMEZONE
BEGIN:VEVENT
SUMMARY:	Gesundes Dorf - Indian Balance (Markt St. Martin) 
URL:https://marktstmartin.at/index.php?p=events/veranstaltung-am-25-09-2023-gesundes-dorf-indian-balance
UID:5347
DTSTAMP:20260422T235738
DTSTART:20230925T183000
DTEND:20230925T183000
LOCATION: Turnsaal der Volksschule  7341 Markt St. Martin Österreich
END:VEVENT
END:VCALENDAR