BEGIN:VCALENDAR
METHOD:PUBLISH
VERSION:2.0
PRODID:-//Gemeinde Markt St. Martin//Gemeinde Markt St. Martin//DE
BEGIN:VTIMEZONE
TZID:Europe/Vienna
X-LIC-LOCATION:Europe/Vienna
BEGIN:DAYLIGHT
TZOFFSETFROM:+0100
TZOFFSETTO:+0200
TZNAME:CEST
DTSTART:19700329T020000
RRULE:FREQ=YEARLY;INTERVAL=1;BYDAY=-1SU;BYMONTH=3
END:DAYLIGHT
BEGIN:STANDARD
TZOFFSETFROM:+0200
TZOFFSETTO:+0100
TZNAME:CET
DTSTART:19701025T030000
RRULE:FREQ=YEARLY;INTERVAL=1;BYDAY=-1SU;BYMONTH=10
END:STANDARD
END:VTIMEZONE
BEGIN:VEVENT
SUMMARY:	1. Feuerwehr-Schnapsen (Markt St. Martin) 
URL:https://marktstmartin.at/index.php?p=events/veranstaltung-am-25-10-2025-1-feuerwehr-schnapsen
UID:6603
DTSTAMP:20260424T143344
DTSTART:20251025T160000
DTEND:20251025T160000
LOCATION: Feuerwehrhaus  7341 Markt St. Martin Österreich
END:VEVENT
END:VCALENDAR